BEGIN:VCALENDAR
VERSION:2.0
METHOD:PUBLISH
BEGIN:VEVENT
DTSTART:19700101T000023Z
DTEND:19700101T000023Z
TRANSP:OPAQUE
SEQUENCE:0
UID:
DTSTAMP:20260420T171835Z
SUMMARY:Coppa Nazionale qualificazioni Pesca Sportiva ai Ciprinidi
PRIORITY:1
CLASS:PUBLIC
BEGIN:VALARM
TRIGGER:-PT10080M
ACTION:DISPLAY
DESCRIPTION:Reminder
END:VALARM
END:VEVENT
END:VCALENDAR