BEGIN:VCALENDAR
VERSION:2.0
METHOD:PUBLISH
BEGIN:VEVENT
DTSTART:19700101T000028Z
DTEND:19700101T000028Z
TRANSP:OPAQUE
SEQUENCE:0
UID:
DTSTAMP:20260421T233109Z
SUMMARY:GP EFRA 1/5
PRIORITY:1
CLASS:PUBLIC
BEGIN:VALARM
TRIGGER:-PT10080M
ACTION:DISPLAY
DESCRIPTION:Reminder
END:VALARM
END:VEVENT
END:VCALENDAR